BEGIN:VCALENDAR
VERSION:2.0
PRODID:-//eventon.com NONSGML v1.0//EN
CALSCALE:GREGORIAN
METHOD:PUBLISH
BEGIN:VEVENT
UID:69e8a645a6819
DTSTAMP:20260422T104317Z
DTSTART:20170909T000000Z
DTEND:20170909T235900Z
LOCATION:Avenue Pasteur - 76000 ROUEN
SUMMARY:A lasso de Rouen  76
DESCRIPTION:Lassociation Eau de Coco se prÃ©sente auÂ forum des association
 s de la Ville de Rouen (Seine-Maritime) Â« Ã€ lâ€™asso de Rouen Â» organisÃ
 © samedi 9Â septembre 2017Â &#8211;Â avenue Pasteur de 10 h Ã  18 h. PrÃ©se
 ntation de la LuzÃ©ole le distributeur de curiositÃ©s au profit de lassocia
 tion Venez Ã  notre rencontre !!! 10:00\nhttps://eaudecocosuisse.org/evento
 s/a-lasso-de-rouen-76/
URL:https://eaudecocosuisse.org/eventos/a-lasso-de-rouen-76/
END:VEVENT
END:VCALENDAR