BEGIN:VCALENDAR
VERSION:2.0
PRODID:-//eventon.com NONSGML v1.0//EN
CALSCALE:GREGORIAN
METHOD:PUBLISH
BEGIN:VEVENT
UID:69e8af2cd2d75
DTSTAMP:20260422T112116Z
DTSTART:20170930T000000Z
DTEND:20170930T235900Z
LOCATION:Haguenau
SUMMARY:Formation au départ  Strasbourg (67)
DESCRIPTION:Eau de Coco animera une journée de formation au départ de nou
 veaux jeunes volontaires pour Madagascar à Haguenau près de Strasbourg. 
 Pour toute information complémentaire contactez Stéphane (shamouis@eaudec
 oco.org)\nhttps://eaudecocosuisse.org/eventos/formation-au-depart-strasbour
 g-67/
URL:https://eaudecocosuisse.org/eventos/formation-au-depart-strasbourg-67/
END:VEVENT
END:VCALENDAR