BEGIN:VCALENDAR
VERSION:2.0
PRODID:-//eventon.com NONSGML v1.0//EN
CALSCALE:GREGORIAN
METHOD:PUBLISH
BEGIN:VEVENT
UID:69e8a6462cf3c
DTSTAMP:20260422T104318Z
DTSTART:20190330T000000Z
DTEND:20190330T235900Z
LOCATION:Séné
SUMMARY:Assemblée Générale 2019  Séné (56)
DESCRIPTION:Chers adhérentes et adhérents Mme la présidente vous invite 
 à participer à lassemblée générale « délocalisée » 2019 le samed
 i 30 mars 2019 à 11:00 à Séné (Morbihan). salle de la Mairie “Écomu
 sée  &#8211; 6 Place de la Fraternité 56860 Séné Une occasion de renco
 ntrer notre nouvelle délégation régionale : Eau de Coco[..]\nhttps://eau
 decocosuisse.org/eventos/assemblee-generale-2019-sene-56/
URL:https://eaudecocosuisse.org/eventos/assemblee-generale-2019-sene-56/
END:VEVENT
END:VCALENDAR